BEGIN:VCALENDAR
VERSION:2.0
PRODID:-//Stormvogels Haasrode - ECPv6.15.20//NONSGML v1.0//EN
CALSCALE:GREGORIAN
METHOD:PUBLISH
X-WR-CALNAME:Stormvogels Haasrode
X-ORIGINAL-URL:https://stormvogelshaasrode.be
X-WR-CALDESC:Events voor Stormvogels Haasrode
REFRESH-INTERVAL;VALUE=DURATION:PT1H
X-Robots-Tag:noindex
X-PUBLISHED-TTL:PT1H
BEGIN:VTIMEZONE
TZID:Europe/Brussels
BEGIN:DAYLIGHT
TZOFFSETFROM:+0100
TZOFFSETTO:+0200
TZNAME:CEST
DTSTART:20240331T010000
END:DAYLIGHT
BEGIN:STANDARD
TZOFFSETFROM:+0200
TZOFFSETTO:+0100
TZNAME:CET
DTSTART:20241027T010000
END:STANDARD
BEGIN:DAYLIGHT
TZOFFSETFROM:+0100
TZOFFSETTO:+0200
TZNAME:CEST
DTSTART:20250330T010000
END:DAYLIGHT
BEGIN:STANDARD
TZOFFSETFROM:+0200
TZOFFSETTO:+0100
TZNAME:CET
DTSTART:20251026T010000
END:STANDARD
BEGIN:DAYLIGHT
TZOFFSETFROM:+0100
TZOFFSETTO:+0200
TZNAME:CEST
DTSTART:20260329T010000
END:DAYLIGHT
BEGIN:STANDARD
TZOFFSETFROM:+0200
TZOFFSETTO:+0100
TZNAME:CET
DTSTART:20261025T010000
END:STANDARD
END:VTIMEZONE
BEGIN:VEVENT
DTSTART;TZID=Europe/Brussels:20250411T193000
DTEND;TZID=Europe/Brussels:20250411T233000
DTSTAMP:20260421T141032
CREATED:20250310T102038Z
LAST-MODIFIED:20250310T102039Z
UID:3043-1744399800-1744414200@stormvogelshaasrode.be
SUMMARY:Quiz Stormvogels Haasrode
DESCRIPTION:Stormvogels Quiz  \n\n\n\nOp vrijdag 11 april om 19u30 organiseren we de Stormvogels Quiz in de kantine van Stormvogels Haasrode. Een gezellige avond vol weetjes\, plezier en gezonde competitie. Denk jij dat je de slimste bent van je vriendengroep? Of wil je gewoon een leuke avond beleven met vrienden of familie? Schrijf je dan snel in! \n\n\n\n\nAlgemene kennis quiz\n\n\n\nMax. 5 personen per ploeg\n\n\n\n€25 per ploeg\n\n\n\nLocatie: Kantine Stormvogels Haasrode\n\n\n\n\nInschrijven via robbe.hoymans@robertwalters.com.
URL:https://stormvogelshaasrode.be/kalender/quiz-stormvogels-haasrode/
ATTACH;FMTTYPE=image/jpeg:https://stormvogelshaasrode.be/wp-content/uploads/sites/6/2025/03/481333352_1247808807076458_4302722152516939079_n.jpg
END:VEVENT
END:VCALENDAR