BEGIN:VCALENDAR
VERSION:2.0
PRODID:-//Stormvogels Haasrode - ECPv6.15.20//NONSGML v1.0//EN
CALSCALE:GREGORIAN
METHOD:PUBLISH
X-WR-CALNAME:Stormvogels Haasrode
X-ORIGINAL-URL:https://stormvogelshaasrode.be
X-WR-CALDESC:Events voor Stormvogels Haasrode
REFRESH-INTERVAL;VALUE=DURATION:PT1H
X-Robots-Tag:noindex
X-PUBLISHED-TTL:PT1H
BEGIN:VTIMEZONE
TZID:Europe/Brussels
BEGIN:DAYLIGHT
TZOFFSETFROM:+0100
TZOFFSETTO:+0200
TZNAME:CEST
DTSTART:20240331T010000
END:DAYLIGHT
BEGIN:STANDARD
TZOFFSETFROM:+0200
TZOFFSETTO:+0100
TZNAME:CET
DTSTART:20241027T010000
END:STANDARD
BEGIN:DAYLIGHT
TZOFFSETFROM:+0100
TZOFFSETTO:+0200
TZNAME:CEST
DTSTART:20250330T010000
END:DAYLIGHT
BEGIN:STANDARD
TZOFFSETFROM:+0200
TZOFFSETTO:+0100
TZNAME:CET
DTSTART:20251026T010000
END:STANDARD
BEGIN:DAYLIGHT
TZOFFSETFROM:+0100
TZOFFSETTO:+0200
TZNAME:CEST
DTSTART:20260329T010000
END:DAYLIGHT
BEGIN:STANDARD
TZOFFSETFROM:+0200
TZOFFSETTO:+0100
TZNAME:CET
DTSTART:20261025T010000
END:STANDARD
END:VTIMEZONE
BEGIN:VEVENT
DTSTART;TZID=Europe/Brussels:20250326T080000
DTEND;TZID=Europe/Brussels:20250326T170000
DTSTAMP:20260421T195141
CREATED:20250313T132223Z
LAST-MODIFIED:20250313T132807Z
UID:3083-1742976000-1743008400@stormvogelshaasrode.be
SUMMARY:🧇 Steun jouw Stormvogelsploeg – bestel wafels & paaseitjes!
DESCRIPTION:📢 Wafel- en paaseitjesverkoop ten voordele van onze Stormvogels!Help onze jeugdploegen op buitenlandse missie! De opbrengst gaat integraal naar het buitenlands tornooi in mei\, waar onze jeugdploegen de Stormvogelskleuren zullen verdedigen op internationale bodem. 🌍⚽ \n\n\n\n🧇🍫 Bestel nu heerlijke wafels en paaseitjes via onze webshop.Superlekker én je steunt onze jonge voetballers! \n\n\n\n📅 Bestellen kan tot en met 26 maart – levering gebeurt net vóór de paasvakantie.📦 Je kiest zelf een handig afhaalmoment (2 tijdsloten beschikbaar). \n\n\n\n👉 Bestel hier:  Klik hier om te bestellen \n\n\n\n🎯 Steun jouw team en win eeuwige roem via het scorebord!Elke ploeg houdt zijn eigen verkopen bij. Wanneer je bestelt en het team voor wie je bestelt doorgeeft\, telt jouw aankoop mee op hun scorebord. Zo zie je in real-time welke ploeg het meeste verkocht heeft. De competitie is begonnen! 😄Tip: Je vindt de scorebordlink ook in je bevestigingsmail na een bestelling. \n\n\n\n📣 Deel dus zeker verder met familie\, vrienden\, buren\, collega’s of in je WhatsAppgroep – en help jouw team omhoog klimmen op het scorebord! \n\n\n\n❤💛 Dankjewel voor jullie steun en enthousiasme!Samen maken we er een smakelijk én sportief succes van.
URL:https://stormvogelshaasrode.be/kalender/%f0%9f%a7%87-steun-jouw-stormvogelsploeg-bestel-wafels-paaseitjes/
END:VEVENT
BEGIN:VEVENT
DTSTART;TZID=Europe/Brussels:20250213T190000
DTEND;TZID=Europe/Brussels:20250213T210000
DTSTAMP:20260421T195141
CREATED:20250127T204253Z
LAST-MODIFIED:20250127T204931Z
UID:2473-1739473200-1739480400@stormvogelshaasrode.be
SUMMARY:Infoavond: Ontdek de Toekomst van Energie met Opteco
DESCRIPTION:We nodigen jullie van harte uit voor een boeiende en informatieve avond georganiseerd door onze sponsor Opteco\, dé specialist in slimme energietechnologie. Opteco presenteert hun Smart E-Grid systeem en zal ons meenemen in de wereld van de energietransitie.Wat kun je verwachten?• Een duidelijke uitleg over de energietransitie en de impact hiervan op jouw energiefactuur.• Concrete oplossingen om je energieverbruik slimmer en efficiënter te beheren met de innovatieve producten van Opteco.• De mogelijkheid om na de presentatie vragen te stellen.• De optie om je in te schrijven voor een gesprek op maat met de experts van Opteco.Wanneer?Donderdag 13 februari\, aanvang om 19u00Waar?Kantine Stormvogels HaasrodeSchrijf je in voor de infoavond via volgende link: (Wees snel want de plaatsen zijn beperkt) \n\n\n\nhttps://forms.gle/dTv1UiUMVTvK9Zv26 \n\n\n\nMis deze kans niet om waardevolle inzichten te krijgen én advies op maat te ontvangen. We hopen jullie talrijk te mogen verwelkomen
URL:https://stormvogelshaasrode.be/kalender/infoavond-ontdek-de-toekomst-van-energie-met-opteco/
ATTACH;FMTTYPE=image/jpeg:https://stormvogelshaasrode.be/wp-content/uploads/sites/6/2025/01/475072417_1216752696848736_8836140609627972477_n.jpg
END:VEVENT
BEGIN:VEVENT
DTSTART;TZID=Europe/Brussels:20250207T210000
DTEND;TZID=Europe/Brussels:20250208T030000
DTSTAMP:20260421T195141
CREATED:20250111T175049Z
LAST-MODIFIED:20250112T110840Z
UID:2027-1738962000-1738983600@stormvogelshaasrode.be
SUMMARY:Stormnacht: 't kantien komt los!
DESCRIPTION:💃 STORMNACHT ALERT! \n\n\n\nHaal je dansbenen boven en zet je beste moves in! Op 7 februari 2025 brengen wij een feestje zoals alleen de Koninklijke Stormvogels Haasrode dat kunnen.  \n\n\n\nMet DJ Bokke achter de knoppen\, wordt het gegarandeerd rocken!\n\n\n\nFuif van de Koninklijke Stormvogels Haasrode\n\n\n\n📍 Waar? Kartuizerstraat 2\, Oud-Heverlee \n\n\n\n🎟️ Steunkaart: slechts €5 \n\n\n\nDeuren open om 21u. Geen excuus\, be there!
URL:https://stormvogelshaasrode.be/kalender/stormnacht-t-kantien-komt-los/
ATTACH;FMTTYPE=image/jpeg:https://stormvogelshaasrode.be/wp-content/uploads/sites/6/2025/01/20250207FuifStormnacht.jpg
END:VEVENT
END:VCALENDAR