BEGIN:VCALENDAR
VERSION:2.0
PRODID:-//Stormvogels Haasrode - ECPv6.15.20//NONSGML v1.0//EN
CALSCALE:GREGORIAN
METHOD:PUBLISH
X-ORIGINAL-URL:https://stormvogelshaasrode.be
X-WR-CALDESC:Events voor Stormvogels Haasrode
REFRESH-INTERVAL;VALUE=DURATION:PT1H
X-Robots-Tag:noindex
X-PUBLISHED-TTL:PT1H
BEGIN:VTIMEZONE
TZID:Europe/Brussels
BEGIN:DAYLIGHT
TZOFFSETFROM:+0100
TZOFFSETTO:+0200
TZNAME:CEST
DTSTART:20240331T010000
END:DAYLIGHT
BEGIN:STANDARD
TZOFFSETFROM:+0200
TZOFFSETTO:+0100
TZNAME:CET
DTSTART:20241027T010000
END:STANDARD
BEGIN:DAYLIGHT
TZOFFSETFROM:+0100
TZOFFSETTO:+0200
TZNAME:CEST
DTSTART:20250330T010000
END:DAYLIGHT
BEGIN:STANDARD
TZOFFSETFROM:+0200
TZOFFSETTO:+0100
TZNAME:CET
DTSTART:20251026T010000
END:STANDARD
BEGIN:DAYLIGHT
TZOFFSETFROM:+0100
TZOFFSETTO:+0200
TZNAME:CEST
DTSTART:20260329T010000
END:DAYLIGHT
BEGIN:STANDARD
TZOFFSETFROM:+0200
TZOFFSETTO:+0100
TZNAME:CET
DTSTART:20261025T010000
END:STANDARD
END:VTIMEZONE
BEGIN:VEVENT
DTSTART;TZID=Europe/Brussels:20250326T080000
DTEND;TZID=Europe/Brussels:20250326T170000
DTSTAMP:20260421T141336
CREATED:20250313T132223Z
LAST-MODIFIED:20250313T132807Z
UID:3083-1742976000-1743008400@stormvogelshaasrode.be
SUMMARY:🧇 Steun jouw Stormvogelsploeg – bestel wafels & paaseitjes!
DESCRIPTION:📢 Wafel- en paaseitjesverkoop ten voordele van onze Stormvogels!Help onze jeugdploegen op buitenlandse missie! De opbrengst gaat integraal naar het buitenlands tornooi in mei\, waar onze jeugdploegen de Stormvogelskleuren zullen verdedigen op internationale bodem. 🌍⚽ \n\n\n\n🧇🍫 Bestel nu heerlijke wafels en paaseitjes via onze webshop.Superlekker én je steunt onze jonge voetballers! \n\n\n\n📅 Bestellen kan tot en met 26 maart – levering gebeurt net vóór de paasvakantie.📦 Je kiest zelf een handig afhaalmoment (2 tijdsloten beschikbaar). \n\n\n\n👉 Bestel hier:  Klik hier om te bestellen \n\n\n\n🎯 Steun jouw team en win eeuwige roem via het scorebord!Elke ploeg houdt zijn eigen verkopen bij. Wanneer je bestelt en het team voor wie je bestelt doorgeeft\, telt jouw aankoop mee op hun scorebord. Zo zie je in real-time welke ploeg het meeste verkocht heeft. De competitie is begonnen! 😄Tip: Je vindt de scorebordlink ook in je bevestigingsmail na een bestelling. \n\n\n\n📣 Deel dus zeker verder met familie\, vrienden\, buren\, collega’s of in je WhatsAppgroep – en help jouw team omhoog klimmen op het scorebord! \n\n\n\n❤💛 Dankjewel voor jullie steun en enthousiasme!Samen maken we er een smakelijk én sportief succes van.
URL:https://stormvogelshaasrode.be/kalender/%f0%9f%a7%87-steun-jouw-stormvogelsploeg-bestel-wafels-paaseitjes/
END:VEVENT
END:VCALENDAR